BEGIN:VCALENDAR
VERSION:2.0
PRODID:-//Squarespace Inc/Squarespace 6//v6//EN
BEGIN:VEVENT
UID:5e49e90483fe885c774e00f0@squarespace.com
DTSTAMP:20200226T233633Z
DTSTART:20200404T140000Z
DTEND:20200404T200000Z
SUMMARY:Open Studios - Tangled Tiles Art Installations
GEO:-37.484863;143.729847
LOCATION:Michael Unwin Wines\, 10 Powells Road\, Windermere\, VIC\, 3352\, 
 Australia
END:VEVENT
END:VCALENDAR
