BEGIN:VCALENDAR
VERSION:2.0
PRODID:-//Squarespace Inc/Squarespace 6//v6//EN
BEGIN:VEVENT
UID:5e4b1f24b6e8306d010973ef@squarespace.com
DTSTAMP:20200226T233609Z
DTSTART:20200404T140000Z
DTEND:20200404T210000Z
SUMMARY:Open Studios - Katie Chancellor Studio
GEO:-37.562559;143.864098
LOCATION:Katie Chancellor Studio\, 85A Bridge Mall\, Ballarat Central\, VIC
 \, 3350\, Australia
END:VEVENT
END:VCALENDAR
