BEGIN:VCALENDAR
VERSION:2.0
PRODID:-//Squarespace Inc/Squarespace 6//v6//EN
BEGIN:VEVENT
UID:5e574639304a016161b9a6b3@squarespace.com
DTSTAMP:20200227T043231Z
DTSTART:20200404T180000Z
DTEND:20200404T183000Z
SUMMARY:Open Studios - Ballarat Society of Artist  Talk  with Trudy Nichols
 on (Copy)
GEO:-37.561025;143.859575
LOCATION:Trades Hall\, 24 Camp Street\, Ballarat Central\, VIC\, 3350\, Aus
 tralia
END:VEVENT
END:VCALENDAR
