BEGIN:VCALENDAR
VERSION:2.0
PRODID:-//Squarespace Inc/Squarespace 6//v6//EN
BEGIN:VEVENT
UID:5e4a0be0ac722716386fb534@squarespace.com
DTSTAMP:20200228T051956Z
DTSTART:20200404T140000Z
DTEND:20200404T160000Z
SUMMARY:Open Studios - Weaving traditional Wadawaurrung necklaces with prou
 d Wadawurrung ba‐gurrk (woman)\, Tammy Gilson 
GEO:-37.558623;143.857324
LOCATION:BADAC\, 5 Market Street\, Ballarat Central\, VIC\, 3350\, Australi
 a
END:VEVENT
END:VCALENDAR
