BEGIN:VCALENDAR
VERSION:2.0
PRODID:-//Squarespace Inc/Squarespace 6//v6//EN
BEGIN:VEVENT
UID:5e157508125da30c42fd4789@squarespace.com
DTSTAMP:20200108T062833Z
DTSTART:20200110T223000Z
DTEND:20200120T023000Z
SUMMARY:Organs of the Ballarat Goldfields
GEO:40.720756;-74.000761
LOCATION:Various venues\, Ballarat
END:VEVENT
END:VCALENDAR
