BEGIN:VCALENDAR
VERSION:2.0
PRODID:-//Squarespace Inc/Squarespace 6//v6//EN
BEGIN:VEVENT
UID:5d1daac8345aa60001cd7665@squarespace.com
DTSTAMP:20190704T073127Z
DTSTART:20190724T213000Z
DTEND:20190724T230000Z
SUMMARY:Out of the Store - Federation University's Collection
GEO:-37.560436;143.858291
LOCATION:Art Gallery of Ballarat\, 40 Lydiard Street North\, Ballarat Centr
 al\, VIC\, 3350\, Australia
END:VEVENT
END:VCALENDAR
