BEGIN:VCALENDAR
VERSION:2.0
PRODID:-//Squarespace Inc/Squarespace 6//v6//EN
BEGIN:VEVENT
UID:5e1e98e3bb5da342353b4417@squarespace.com
DTSTAMP:20200120T224733Z
DTSTART:20200203T230000Z
DTEND:20200204T003000Z
SUMMARY:Pause Fest 
GEO:-37.560436;143.858291
LOCATION:Art Gallery of Ballarat\, 40 Lydiard Street North\, Ballarat Centr
 al\, VIC\, 3350\, Australia
END:VEVENT
END:VCALENDAR
