BEGIN:VCALENDAR
VERSION:2.0
PRODID:-//Squarespace Inc/Squarespace 6//v6//EN
BEGIN:VEVENT
UID:5da51ee7e69f477d8102e971@squarespace.com
DTSTAMP:20191015T013352Z
DTSTART:20191027T180000Z
DTEND:20191027T190000Z
SUMMARY:Penance by Sarah Jarrold
GEO:-37.561025;143.859575
LOCATION:Ballarat Trades Hall\, 24 Camp Street\, Ballarat Central\, VIC\, 3
 350\, Australia
END:VEVENT
END:VCALENDAR
