BEGIN:VCALENDAR
VERSION:2.0
PRODID:-//Squarespace Inc/Squarespace 6//v6//EN
BEGIN:VEVENT
UID:5d3119db29cfd10001ec5a52@squarespace.com
DTSTAMP:20190719T031840Z
DTSTART:20190802T230000Z
DTEND:20190803T000000Z
SUMMARY:Pete Daffy at Ballarat Trades Hall 
GEO:-37.561025;143.859575
LOCATION:Ballarat Trades Hall\, 24 Camp Street\, Ballarat Central
END:VEVENT
END:VCALENDAR
