BEGIN:VCALENDAR
VERSION:2.0
PRODID:-//Squarespace Inc/Squarespace 6//v6//EN
BEGIN:VEVENT
UID:5e5886376e31e45f8118a660@squarespace.com
DTSTAMP:20200228T032440Z
DTSTART:20200227T150000Z
DTEND:20200309T220000Z
SUMMARY:he flag of the Southern Cross: An icon
GEO:-37.564914;143.883741
LOCATION:Eureka Centre\, 102 Stawell Street South\, Eureka\, VIC\, 3350\, A
 ustralia
END:VEVENT
END:VCALENDAR
