BEGIN:VCALENDAR
VERSION:2.0
PRODID:-//Squarespace Inc/Squarespace 6//v6//EN
BEGIN:VEVENT
UID:5e1f915594e2641621de6181@squarespace.com
DTSTAMP:20200116T213556Z
DTSTART:20191118T150000Z
DTEND:20200309T210000Z
SUMMARY:Exhibition: &nbsp\;The Flag of the Southern Cross: An Icon 
GEO:-37.564914;143.883741
LOCATION:Eureka Centre\, 102 Stawell Street South\, Eureka\, VIC\, 3350\, A
 ustralia
END:VEVENT
END:VCALENDAR
