BEGIN:VCALENDAR
VERSION:2.0
PRODID:-//Squarespace Inc/Squarespace 6//v6//EN
BEGIN:VEVENT
UID:5e4f2b8cf593a8280c3a8449@squarespace.com
DTSTAMP:20200221T010208Z
DTSTART:20200313T223000Z
DTEND:20200314T013000Z
SUMMARY:Pink Moon Live at The George
GEO:-37.560792;143.857702
LOCATION:The George Hotel\, 27 Lydiard Street North\, Ballarat Central\, VI
 C\, 3350\, Australia
END:VEVENT
END:VCALENDAR
