BEGIN:VCALENDAR
VERSION:2.0
PRODID:-//Squarespace Inc/Squarespace 6//v6//EN
BEGIN:VEVENT
UID:5ff7f51acfecdf78bee3e5fb@squarespace.com
DTSTAMP:20210108T060417Z
DTSTART:20210117T070000Z
DTEND:20210117T120000Z
SUMMARY:Pitch Please! At Piano Bar
GEO:-37.5625;143.859505
LOCATION:Piano Bar\, 31 Sturt Street\, Ballarat Central\, VIC\, 3350\, Aust
 ralia
END:VEVENT
END:VCALENDAR
