BEGIN:VCALENDAR
VERSION:2.0
PRODID:-//Squarespace Inc/Squarespace 6//v6//EN
BEGIN:VEVENT
UID:5e1fe9fcc93b505222d42c96@squarespace.com
DTSTAMP:20200116T044744Z
DTSTART:20190810T133000Z
DTEND:20200308T213000Z
SUMMARY:Pose Photographic Exhibition
GEO:-37.577795;143.865043
LOCATION:Gold Museum Ballarat\, 39 Magpie St\, Ballarat
END:VEVENT
END:VCALENDAR
