BEGIN:VCALENDAR
VERSION:2.0
PRODID:-//Squarespace Inc/Squarespace 6//v6//EN
BEGIN:VEVENT
UID:5db77ff371005f1c8c908603@squarespace.com
DTSTAMP:20191028T235812Z
DTSTART:20191109T180000Z
DTEND:20191109T210000Z
SUMMARY:Potter Wheel Throwing Workshop  - Beginners
GEO:-37.559776;143.858363
LOCATION:ClayMotion\, 34a Mair Street\, Ballarat\, VIC\, Australia
END:VEVENT
END:VCALENDAR
