BEGIN:VCALENDAR
VERSION:2.0
PRODID:-//Squarespace Inc/Squarespace 6//v6//EN
BEGIN:VEVENT
UID:5e154b8a1508dc7f6dbcd7b7@squarespace.com
DTSTAMP:20200108T033535Z
DTSTART:20200122T150000Z
DTEND:20200122T190000Z
SUMMARY:Printing for Quilting
GEO:-37.561111;143.859722
LOCATION:Ballarat Trades Hall\, Camp Street\, Ballarat\, Australia
END:VEVENT
END:VCALENDAR
