BEGIN:VCALENDAR
VERSION:2.0
PRODID:-//Squarespace Inc/Squarespace 6//v6//EN
BEGIN:VEVENT
UID:5e1beb19f3730241df1cdd05@squarespace.com
DTSTAMP:20200113T040656Z
DTSTART:20200229T160000Z
DTEND:20200229T190000Z
SUMMARY:Punch Needle Workshop Ballarat
GEO:-37.56102;143.859343
LOCATION:Camp Street\, Ballarat
END:VEVENT
END:VCALENDAR
