BEGIN:VCALENDAR
VERSION:2.0
PRODID:-//Squarespace Inc/Squarespace 6//v6//EN
BEGIN:VEVENT
UID:5e3263541213336bbc1cc05a@squarespace.com
DTSTAMP:20200130T051249Z
DTSTART:20200307T150000Z
DTEND:20200309T200000Z
SUMMARY:Needles \, Knots and Threads - an Exhibition of Embroidery and Quil
 ting
GEO:-37.562721;143.852772
LOCATION:2 Dawson Street South\, Ballarat Central
END:VEVENT
END:VCALENDAR
