BEGIN:VCALENDAR
VERSION:2.0
PRODID:-//Squarespace Inc/Squarespace 6//v6//EN
BEGIN:VEVENT
UID:5d9aa2b0dee9214f7c21c9f1@squarespace.com
DTSTAMP:20191007T023002Z
DTSTART:20191011T023000Z
DTEND:20191027T033000Z
SUMMARY:Rachel Grose and Catherine Ratcliffe: exhibition opening
GEO:-37.563504;143.857468
LOCATION:Art Gallery of Ballarat\, 40 Lydiard Street South\, Ballarat
END:VEVENT
END:VCALENDAR
