BEGIN:VCALENDAR
VERSION:2.0
PRODID:-//Squarespace Inc/Squarespace 6//v6//EN
BEGIN:VEVENT
UID:5d8b0b989be36e642e27bc12@squarespace.com
DTSTAMP:20190925T065153Z
DTSTART:20190925T070000Z
DTEND:20190925T080000Z
SUMMARY:Rachel Grose: Silver garden &amp\; Catherine Ratcliffe: The Narmboo
 l Run
END:VEVENT
END:VCALENDAR
