BEGIN:VCALENDAR
VERSION:2.0
PRODID:-//Squarespace Inc/Squarespace 6//v6//EN
BEGIN:VEVENT
UID:5d9aa41ebf558c7eaa1387e2@squarespace.com
DTSTAMP:20191007T023650Z
DTSTART:20191109T150000Z
DTEND:20191109T173000Z
SUMMARY:Rainbow Storytime\, Frolic Festival
GEO:-37.558143;143.85574
LOCATION:Ballarat Libraries\, 178 Doveton Street North\, Ballarat Central\, 
 VIC\, 3350\, Australia
END:VEVENT
END:VCALENDAR
