BEGIN:VCALENDAR
VERSION:2.0
PRODID:-//Squarespace Inc/Squarespace 6//v6//EN
BEGIN:VEVENT
UID:5e58563bb0617366ac5d3e61@squarespace.com
DTSTAMP:20200303T003904Z
DTSTART:20200305T210000Z
DTEND:20200305T230000Z
SUMMARY:Skill Up!: iPhoneography for makers (for artists 25 years and under
 )
GEO:-37.560436;143.858291
LOCATION:Art Gallery of Ballarat\, 40 Lydiard Street North\, Ballarat Centr
 al\, VIC\, 3350\, Australia
END:VEVENT
END:VCALENDAR
