BEGIN:VCALENDAR
VERSION:2.0
PRODID:-//Squarespace Inc/Squarespace 6//v6//EN
BEGIN:VEVENT
UID:5e1e9c2d348d0b3315f56180@squarespace.com
DTSTAMP:20200120T224923Z
DTSTART:20200229T010000Z
DTEND:20200229T030000Z
SUMMARY:Raw Comedy - Ballarat Heats
GEO:-37.560792;143.857702
LOCATION:The George Hotel Ballarat\, 27 Lydiard Street North\, Ballarat Cen
 tral\, VIC\, 3350\, Australia
END:VEVENT
END:VCALENDAR
