BEGIN:VCALENDAR
VERSION:2.0
PRODID:-//Squarespace Inc/Squarespace 6//v6//EN
BEGIN:VEVENT
UID:5d1da9ad49d9a70001859f20@squarespace.com
DTSTAMP:20190704T072444Z
DTSTART:20190831T170000Z
DTEND:20190831T200000Z
SUMMARY:Repair Cafe
GEO:-37.565402;143.857426
LOCATION:Ballart Tech School\, SMB Campus | Building K\, 136 Albert St\,\, 
 Ballarat\, Victoria 3350
END:VEVENT
END:VCALENDAR
