BEGIN:VCALENDAR
VERSION:2.0
PRODID:-//Squarespace Inc/Squarespace 6//v6//EN
BEGIN:VEVENT
UID:5d82c1294110f1752af8e37f@squarespace.com
DTSTAMP:20190918T235010Z
DTSTART:20191001T180000Z
DTEND:20191001T200000Z
SUMMARY:Riot Games League of Legends Workshop
GEO:-37.565889;143.858227
LOCATION:Ballarat Tech School\, 136 Albert Street\, Ballarat
END:VEVENT
END:VCALENDAR
