BEGIN:VCALENDAR
VERSION:2.0
PRODID:-//Squarespace Inc/Squarespace 6//v6//EN
BEGIN:VEVENT
UID:5f1f66926bd53054efc5aeb4@squarespace.com
DTSTAMP:20201116T043717Z
DTSTART:20210212T070000Z
DTEND:20210215T110000Z
SUMMARY:Rock Ballarat Rock 'n' Roll Rockabilly Festival 2021
GEO:-37.562159;143.850256
LOCATION:Ballarat
END:VEVENT
END:VCALENDAR
