BEGIN:VCALENDAR
VERSION:2.0
PRODID:-//Squarespace Inc/Squarespace 6//v6//EN
BEGIN:VEVENT
UID:5e154e519d597266748569d9@squarespace.com
DTSTAMP:20200108T034225Z
DTSTART:20200315T000000Z
DTEND:20200315T020000Z
SUMMARY:Ross Noble: Humanoid
GEO:-37.562723;143.857882
LOCATION:Her Majesty's Theatre\, 17 Lydiard Street South\, Ballarat
END:VEVENT
END:VCALENDAR
