BEGIN:VCALENDAR
VERSION:2.0
PRODID:-//Squarespace Inc/Squarespace 6//v6//EN
BEGIN:VEVENT
UID:5e1fe52057b4c425de9f28bf@squarespace.com
DTSTAMP:20200116T042841Z
DTSTART:20200601T130000Z
DTEND:20201109T010000Z
SUMMARY:Royal South Street Society Eisteddfod
GEO:-37.562723;143.857882
LOCATION:Her Majesty's Ballarat\, 17 Lydiard Street South\, Ballarat Centra
 l\, VIC\, 3350\, Australia
END:VEVENT
END:VCALENDAR
