BEGIN:VCALENDAR
VERSION:2.0
PRODID:-//Squarespace Inc/Squarespace 6//v6//EN
BEGIN:VEVENT
UID:5e2fc3e205970d3b8455beb9@squarespace.com
DTSTAMP:20200128T051835Z
DTSTART:20200301T210000Z
DTEND:20200302T000000Z
SUMMARY:Screen Printing Workshop 
GEO:-37.553488;143.855011
LOCATION:Abandoned Lot\, 2B Holmes St\, Ballarat Central\, VIC\, 3350\, Aus
 tralia
END:VEVENT
END:VCALENDAR
