BEGIN:VCALENDAR
VERSION:2.0
PRODID:-//Squarespace Inc/Squarespace 6//v6//EN
BEGIN:VEVENT
UID:5e2fc2a9898d7b14b74e2807@squarespace.com
DTSTAMP:20200128T051722Z
DTSTART:20200213T233000Z
DTEND:20200214T023000Z
SUMMARY:Screen Printing Workshop
GEO:-37.553488;143.855011
LOCATION:Abandoned Lot\, 2B Holmes St\, Ballarat Central\, VIC\, 3350\, Aus
 tralia
END:VEVENT
END:VCALENDAR
