BEGIN:VCALENDAR
VERSION:2.0
PRODID:-//Squarespace Inc/Squarespace 6//v6//EN
BEGIN:VEVENT
UID:5e33656768cdc106286fad49@squarespace.com
DTSTAMP:20200130T232741Z
DTSTART:20200225T153000Z
DTEND:20200225T183000Z
SUMMARY:Are you a quality screenwriter to begin with? Screenwriting info se
 ssion.
GEO:-37.560206;143.857818
LOCATION:51 Lydiard Street North\, Ballarat Central
END:VEVENT
END:VCALENDAR
