BEGIN:VCALENDAR
VERSION:2.0
PRODID:-//Squarespace Inc/Squarespace 6//v6//EN
BEGIN:VEVENT
UID:5da55cea11f4180d53d0a9af@squarespace.com
DTSTAMP:20191015T054742Z
DTSTART:20191027T183000Z
DTEND:20191027T193000Z
SUMMARY:Sing to Inspire
END:VEVENT
END:VCALENDAR
