BEGIN:VCALENDAR
VERSION:2.0
PRODID:-//Squarespace Inc/Squarespace 6//v6//EN
BEGIN:VEVENT
UID:5d71eb857c8ced0001e3f9e6@squarespace.com
DTSTAMP:20190906T051947Z
DTSTART:20191029T220000Z
DTEND:20191030T010000Z
SUMMARY:SKILL UP! COURSES FOR CREATIVES: Finance essentials for creatives
GEO:40.720756;-74.000761
LOCATION:Art Gallery of Ballarat\, 40 Lydiard Street North\, Ballarat\, VIC 
 3350
END:VEVENT
END:VCALENDAR
