BEGIN:VCALENDAR
VERSION:2.0
PRODID:-//Squarespace Inc/Squarespace 6//v6//EN
BEGIN:VEVENT
UID:5d71edb2432141000135321b@squarespace.com
DTSTAMP:20190906T053009Z
DTSTART:20191126T230000Z
DTEND:20191127T020000Z
SUMMARY:SKILL UP! COURSES FOR CREATIVES: Finance for not-for-profit boards
END:VEVENT
END:VCALENDAR
