BEGIN:VCALENDAR
VERSION:2.0
PRODID:-//Squarespace Inc/Squarespace 6//v6//EN
BEGIN:VEVENT
UID:5d71e685432141000134c510@squarespace.com
DTSTAMP:20190906T050708Z
DTSTART:20190924T160000Z
DTEND:20190924T164500Z
SUMMARY:SKILL UP! COURSES FOR CREATIVES: Intro to the City of Ballarat Even
 ts Team
GEO:40.720756;-74.000761
LOCATION:Art Gallery of Ballarat\, 40 Lydiard Street North\, Ballarat Centr
 al\, VIC\, 3350\, Australia
END:VEVENT
END:VCALENDAR
