BEGIN:VCALENDAR
VERSION:2.0
PRODID:-//Squarespace Inc/Squarespace 6//v6//EN
BEGIN:VEVENT
UID:5e5850dc0fd9291402bafe2b@squarespace.com
DTSTAMP:20200302T050923Z
DTSTART:20200305T233000Z
DTEND:20200306T013000Z
SUMMARY:Skill Up!: iPhoneography for makers (Open Admission)
GEO:-37.560436;143.858291
LOCATION:Art Gallery of Ballarat\, 40 Lydiard Street North\, Ballarat Centr
 al\, VIC\, 3350\, Australia
END:VEVENT
END:VCALENDAR
