BEGIN:VCALENDAR
VERSION:2.0
PRODID:-//Squarespace Inc/Squarespace 6//v6//EN
BEGIN:VEVENT
UID:5da3ec2925ee08754a874871@squarespace.com
DTSTAMP:20191014T033350Z
DTSTART:20191020T150000Z
DTEND:20191020T200000Z
SUMMARY:Smythesdale Arts &amp\; Music Fiesta
GEO:40.720756;-74.000761
LOCATION:Smythesdale
END:VEVENT
END:VCALENDAR
