BEGIN:VCALENDAR
VERSION:2.0
PRODID:-//Squarespace Inc/Squarespace 6//v6//EN
BEGIN:VEVENT
UID:5e8661eba0ebbf270c2dcdf4@squarespace.com
DTSTAMP:20200402T220849Z
DTSTART:20200402T223000Z
DTEND:20200402T233000Z
SUMMARY:Online Workshop - Laura Day: Soul Medicine Painting 
GEO:40.720756;-74.000761
LOCATION:Online
END:VEVENT
END:VCALENDAR
