BEGIN:VCALENDAR
VERSION:2.0
PRODID:-//Squarespace Inc/Squarespace 6//v6//EN
BEGIN:VEVENT
UID:5cd2ce798e44fc000133fbc0@squarespace.com
DTSTAMP:20191015T053040Z
DTSTART:20191129T170000Z
DTEND:20191129T175900Z
SUMMARY:Fringe Benefits
END:VEVENT
END:VCALENDAR
