BEGIN:VCALENDAR
VERSION:2.0
PRODID:-//Squarespace Inc/Squarespace 6//v6//EN
BEGIN:VEVENT
UID:5cd285820d9297d6f434dc33@squarespace.com
DTSTAMP:20190508T073250Z
DTSTART:20191130T210000Z
DTEND:20191201T045900Z
SUMMARY:Spilt Milk Music Festival
END:VEVENT
END:VCALENDAR
