BEGIN:VCALENDAR
VERSION:2.0
PRODID:-//Squarespace Inc/Squarespace 6//v6//EN
BEGIN:VEVENT
UID:5cdba4f94e17b630b289ddd2@squarespace.com
DTSTAMP:20190708T070912Z
DTSTART:20190704T060000Z
DTEND:20190725T220000Z
SUMMARY:Spinning Wheel Workshop
END:VEVENT
END:VCALENDAR
