BEGIN:VCALENDAR
VERSION:2.0
PRODID:-//Squarespace Inc/Squarespace 6//v6//EN
BEGIN:VEVENT
UID:5d64baa3e686bd0001e28876@squarespace.com
DTSTAMP:20190827T051128Z
DTSTART:20191116T190000Z
DTEND:20191116T230000Z
SUMMARY:Spring in the Park
GEO:-37.56361;143.821024
LOCATION:Victoria Park\, Ballarat Central\, Australia
END:VEVENT
END:VCALENDAR
