BEGIN:VCALENDAR
VERSION:2.0
PRODID:-//Squarespace Inc/Squarespace 6//v6//EN
BEGIN:VEVENT
UID:5fd80aef50dc481b7891e319@squarespace.com
DTSTAMP:20201215T010508Z
DTSTART:20210115T230000Z
DTEND:20210116T040000Z
SUMMARY:Start the New year with Printmaking with Susan Clarke
GEO:-37.561025;143.859575
LOCATION:Ballarat Trades Hall\, 24 Camp Street\, Ballarat Central\, VIC\, 3
 350\, Australia
END:VEVENT
END:VCALENDAR
