BEGIN:VCALENDAR
VERSION:2.0
PRODID:-//Squarespace Inc/Squarespace 6//v6//EN
BEGIN:VEVENT
UID:601a39989e8e09406de83485@squarespace.com
DTSTAMP:20210203T055926Z
DTSTART:20210204T050000Z
DTEND:20210207T090000Z
SUMMARY:Summer Live Music Nights in Ballarat 
GEO:-37.562159;143.850256
LOCATION:Central Ballarat
END:VEVENT
END:VCALENDAR
