BEGIN:VCALENDAR
VERSION:2.0
PRODID:-//Squarespace Inc/Squarespace 6//v6//EN
BEGIN:VEVENT
UID:5d64b3f11aacf70001836972@squarespace.com
DTSTAMP:20190827T044146Z
DTSTART:20190827T050000Z
DTEND:20190827T060000Z
SUMMARY:Talking History @ Ballarat
GEO:-37.564914;143.883741
LOCATION:Eureka Centre\, 102 Stawell Street South\, Eureka\, VIC\, 3350\, A
 ustralia
END:VEVENT
END:VCALENDAR
