BEGIN:VCALENDAR
VERSION:2.0
PRODID:-//Squarespace Inc/Squarespace 6//v6//EN
BEGIN:VEVENT
UID:5e4f2d49be1cf4047d0b77f2@squarespace.com
DTSTAMP:20200221T011147Z
DTSTART:20200320T230000Z
DTEND:20200321T003000Z
SUMMARY:The Catchelorette - (Cabaret @ The George)
GEO:-37.560792;143.857702
LOCATION:The George Hotel\, 27 Lydiard Street North\, Ballarat Central\, VI
 C\, 3350\, Australia
END:VEVENT
END:VCALENDAR
