BEGIN:VCALENDAR
VERSION:2.0
PRODID:-//Squarespace Inc/Squarespace 6//v6//EN
BEGIN:VEVENT
UID:5e4f26188ed056205aac9e01@squarespace.com
DTSTAMP:20200221T003917Z
DTSTART:20200229T000000Z
DTEND:20200229T043000Z
SUMMARY:Majestic Horses/Chess/Meraki Minds
GEO:-37.559137;143.867559
LOCATION:The Eastern\, 81 Humffray Street North\, Ballarat East\, VIC\, 335
 0\, Australia
END:VEVENT
END:VCALENDAR
