BEGIN:VCALENDAR
VERSION:2.0
PRODID:-//Squarespace Inc/Squarespace 6//v6//EN
BEGIN:VEVENT
UID:5cf85cc3ad35d30001c42b30@squarespace.com
DTSTAMP:20190611T074823Z
DTSTART:20190630T183000Z
DTEND:20190630T193000Z
SUMMARY:The Wiggles
GEO:-37.558782;143.856068
LOCATION:Ballarat Civic Hall\, 300-304 Mair Street\, Ballarat Central\, VIC
 \, 3350\, Australia
END:VEVENT
END:VCALENDAR
