BEGIN:VCALENDAR
VERSION:2.0
PRODID:-//Squarespace Inc/Squarespace 6//v6//EN
BEGIN:VEVENT
UID:5e26292463ef4f758b7d929a@squarespace.com
DTSTAMP:20200120T224433Z
DTSTART:20200127T000000Z
DTEND:20200127T040000Z
SUMMARY:Bushfire Relief at the Eastern
GEO:-37.559137;143.867559
LOCATION:The Eastern\, 81 Humffray Street North\, Ballarat East\, VIC\, 335
 0\, Australia
END:VEVENT
END:VCALENDAR
