BEGIN:VCALENDAR
VERSION:2.0
PRODID:-//Squarespace Inc/Squarespace 6//v6//EN
BEGIN:VEVENT
UID:5e1e7b14e723f0468c0cd1a2@squarespace.com
DTSTAMP:20200115T025331Z
DTSTART:20200330T030000Z
DTEND:20200330T040000Z
SUMMARY:The Two of Us - Marina Prior &amp\; David Hobson
GEO:-37.539593;143.829151
LOCATION:Wendouree Performing Arts Centre\, 1220 Howitt Street\, Wendouree\
 , VIC\, 3355\, Australia
END:VEVENT
END:VCALENDAR
